BEGIN:VCALENDAR
VERSION:2.0
PRODID:-//Ristorante Da Carlo Bern - ECPv6.15.20//NONSGML v1.0//EN
CALSCALE:GREGORIAN
METHOD:PUBLISH
X-ORIGINAL-URL:https://da-carlo-bern.ch
X-WR-CALDESC:Veranstaltungen im Ristorante Da Carlo Bern
REFRESH-INTERVAL;VALUE=DURATION:PT1H
X-Robots-Tag:noindex
X-PUBLISHED-TTL:PT1H
BEGIN:VTIMEZONE
TZID:Europe/Zurich
BEGIN:DAYLIGHT
TZOFFSETFROM:+0100
TZOFFSETTO:+0200
TZNAME:CEST
DTSTART:20240331T010000
END:DAYLIGHT
BEGIN:STANDARD
TZOFFSETFROM:+0200
TZOFFSETTO:+0100
TZNAME:CET
DTSTART:20241027T010000
END:STANDARD
BEGIN:DAYLIGHT
TZOFFSETFROM:+0100
TZOFFSETTO:+0200
TZNAME:CEST
DTSTART:20250330T010000
END:DAYLIGHT
BEGIN:STANDARD
TZOFFSETFROM:+0200
TZOFFSETTO:+0100
TZNAME:CET
DTSTART:20251026T010000
END:STANDARD
BEGIN:DAYLIGHT
TZOFFSETFROM:+0100
TZOFFSETTO:+0200
TZNAME:CEST
DTSTART:20260329T010000
END:DAYLIGHT
BEGIN:STANDARD
TZOFFSETFROM:+0200
TZOFFSETTO:+0100
TZNAME:CET
DTSTART:20261025T010000
END:STANDARD
END:VTIMEZONE
BEGIN:VEVENT
DTSTART;TZID=Europe/Zurich:20250609T190000
DTEND;TZID=Europe/Zurich:20250609T210000
DTSTAMP:20260421T192553
CREATED:20250416T131733Z
LAST-MODIFIED:20250416T133046Z
UID:690-1749495600-1749502800@da-carlo-bern.ch
SUMMARY:Gitarrist Alberto Santamaria
DESCRIPTION:
URL:https://da-carlo-bern.ch/event/gitarrist-alberto-santamaria/
ATTACH;FMTTYPE=image/jpeg:https://da-carlo-bern.ch/wp-content/uploads/2025/04/alberto-santamaria_pbd3c7.jpg
END:VEVENT
BEGIN:VEVENT
DTSTART;TZID=Europe/Zurich:20250610T190000
DTEND;TZID=Europe/Zurich:20250610T210000
DTSTAMP:20260421T192553
CREATED:20250416T131933Z
LAST-MODIFIED:20250416T132436Z
UID:692-1749582000-1749589200@da-carlo-bern.ch
SUMMARY:Gitarrist Alberto Santamaria
DESCRIPTION:
URL:https://da-carlo-bern.ch/event/gitarrist-alberto-santamaria-2/
ATTACH;FMTTYPE=image/jpeg:https://da-carlo-bern.ch/wp-content/uploads/2025/04/alberto-santamaria_pbd3c7.jpg
END:VEVENT
BEGIN:VEVENT
DTSTART;TZID=Europe/Zurich:20250611T190000
DTEND;TZID=Europe/Zurich:20250611T210000
DTSTAMP:20260421T192553
CREATED:20250416T131957Z
LAST-MODIFIED:20250416T132422Z
UID:694-1749668400-1749675600@da-carlo-bern.ch
SUMMARY:Gitarrist Alberto Santamaria
DESCRIPTION:
URL:https://da-carlo-bern.ch/event/gitarrist-alberto-santamaria-3/
ATTACH;FMTTYPE=image/jpeg:https://da-carlo-bern.ch/wp-content/uploads/2025/04/alberto-santamaria_pbd3c7.jpg
END:VEVENT
BEGIN:VEVENT
DTSTART;TZID=Europe/Zurich:20250612T190000
DTEND;TZID=Europe/Zurich:20250612T210000
DTSTAMP:20260421T192553
CREATED:20250416T132017Z
LAST-MODIFIED:20250416T132406Z
UID:696-1749754800-1749762000@da-carlo-bern.ch
SUMMARY:Gitarrist Alberto Santamaria
DESCRIPTION:
URL:https://da-carlo-bern.ch/event/gitarrist-alberto-santamaria-4/
ATTACH;FMTTYPE=image/jpeg:https://da-carlo-bern.ch/wp-content/uploads/2025/04/alberto-santamaria_pbd3c7.jpg
END:VEVENT
BEGIN:VEVENT
DTSTART;TZID=Europe/Zurich:20250616T190000
DTEND;TZID=Europe/Zurich:20250616T210000
DTSTAMP:20260421T192553
CREATED:20250516T072828Z
LAST-MODIFIED:20250516T072828Z
UID:1097-1750100400-1750107600@da-carlo-bern.ch
SUMMARY:Martín Sanhueza Céspedes (Gitarre)
DESCRIPTION:
URL:https://da-carlo-bern.ch/event/martin-sanhueza-cespedes-gitarre/
ATTACH;FMTTYPE=image/jpeg:https://da-carlo-bern.ch/wp-content/uploads/2025/05/shsh.jpg
END:VEVENT
BEGIN:VEVENT
DTSTART;TZID=Europe/Zurich:20250617T190000
DTEND;TZID=Europe/Zurich:20250617T210000
DTSTAMP:20260421T192553
CREATED:20250516T072944Z
LAST-MODIFIED:20250516T072944Z
UID:1100-1750186800-1750194000@da-carlo-bern.ch
SUMMARY:Martín Sanhueza Céspedes (Gitarre)
DESCRIPTION:
URL:https://da-carlo-bern.ch/event/martin-sanhueza-cespedes-gitarre-2/
ATTACH;FMTTYPE=image/jpeg:https://da-carlo-bern.ch/wp-content/uploads/2025/05/shsh.jpg
END:VEVENT
BEGIN:VEVENT
DTSTART;TZID=Europe/Zurich:20250618T190000
DTEND;TZID=Europe/Zurich:20250618T210000
DTSTAMP:20260421T192553
CREATED:20250523T074521Z
LAST-MODIFIED:20250523T074521Z
UID:1138-1750273200-1750280400@da-carlo-bern.ch
SUMMARY:Martín Sanhueza Céspedes (Gitarre)
DESCRIPTION:
URL:https://da-carlo-bern.ch/event/martin-sanhueza-cespedes-gitarre-3/
ATTACH;FMTTYPE=image/jpeg:https://da-carlo-bern.ch/wp-content/uploads/2025/05/shsh.jpg
END:VEVENT
BEGIN:VEVENT
DTSTART;TZID=Europe/Zurich:20250619T190000
DTEND;TZID=Europe/Zurich:20250619T210000
DTSTAMP:20260421T192553
CREATED:20250523T074550Z
LAST-MODIFIED:20250523T074550Z
UID:1140-1750359600-1750366800@da-carlo-bern.ch
SUMMARY:Martín Sanhueza Céspedes (Gitarre)
DESCRIPTION:
URL:https://da-carlo-bern.ch/event/martin-sanhueza-cespedes-gitarre-4/
ATTACH;FMTTYPE=image/jpeg:https://da-carlo-bern.ch/wp-content/uploads/2025/05/shsh.jpg
END:VEVENT
BEGIN:VEVENT
DTSTART;TZID=Europe/Zurich:20250623T190000
DTEND;TZID=Europe/Zurich:20250623T210000
DTSTAMP:20260421T192553
CREATED:20250516T073057Z
LAST-MODIFIED:20250516T073057Z
UID:1102-1750705200-1750712400@da-carlo-bern.ch
SUMMARY:Marco Di Bari (Gitarre)
DESCRIPTION:
URL:https://da-carlo-bern.ch/event/marco-di-bari-gitarre/
ATTACH;FMTTYPE=image/jpeg:https://da-carlo-bern.ch/wp-content/uploads/2025/05/sdfha.jpg
END:VEVENT
BEGIN:VEVENT
DTSTART;TZID=Europe/Zurich:20250624T190000
DTEND;TZID=Europe/Zurich:20250624T210000
DTSTAMP:20260421T192553
CREATED:20250516T073127Z
LAST-MODIFIED:20250516T073127Z
UID:1105-1750791600-1750798800@da-carlo-bern.ch
SUMMARY:Marco Di Bari (Gitarre)
DESCRIPTION:
URL:https://da-carlo-bern.ch/event/marco-di-bari-gitarre-2/
ATTACH;FMTTYPE=image/jpeg:https://da-carlo-bern.ch/wp-content/uploads/2025/05/sdfha.jpg
END:VEVENT
BEGIN:VEVENT
DTSTART;TZID=Europe/Zurich:20250625T190000
DTEND;TZID=Europe/Zurich:20250625T210000
DTSTAMP:20260421T192553
CREATED:20250516T073159Z
LAST-MODIFIED:20250516T073159Z
UID:1107-1750878000-1750885200@da-carlo-bern.ch
SUMMARY:Marco Di Bari (Gitarre)
DESCRIPTION:
URL:https://da-carlo-bern.ch/event/marco-di-bari-gitarre-3/
ATTACH;FMTTYPE=image/jpeg:https://da-carlo-bern.ch/wp-content/uploads/2025/05/sdfha.jpg
END:VEVENT
BEGIN:VEVENT
DTSTART;TZID=Europe/Zurich:20250626T190000
DTEND;TZID=Europe/Zurich:20250626T210000
DTSTAMP:20260421T192553
CREATED:20250516T073231Z
LAST-MODIFIED:20250516T073243Z
UID:1109-1750964400-1750971600@da-carlo-bern.ch
SUMMARY:Marco Di Bari (Gitarre)
DESCRIPTION:
URL:https://da-carlo-bern.ch/event/marco-di-bari-gitarre-4/
ATTACH;FMTTYPE=image/jpeg:https://da-carlo-bern.ch/wp-content/uploads/2025/05/sdfha.jpg
END:VEVENT
BEGIN:VEVENT
DTSTART;TZID=Europe/Zurich:20250630T190000
DTEND;TZID=Europe/Zurich:20250630T210000
DTSTAMP:20260421T192553
CREATED:20250516T073421Z
LAST-MODIFIED:20250516T073421Z
UID:1111-1751310000-1751317200@da-carlo-bern.ch
SUMMARY:Juan Camilo Palacino Caviedes (Gitarre)
DESCRIPTION:
URL:https://da-carlo-bern.ch/event/juan-camilo-palacino-caviedes-gitarre/
ATTACH;FMTTYPE=image/png:https://da-carlo-bern.ch/wp-content/uploads/2025/05/ergaeagg.png
END:VEVENT
END:VCALENDAR