BEGIN:VCALENDAR
VERSION:2.0
PRODID:-//Ristorante Da Carlo Bern - ECPv6.15.20//NONSGML v1.0//EN
CALSCALE:GREGORIAN
METHOD:PUBLISH
X-ORIGINAL-URL:https://da-carlo-bern.ch
X-WR-CALDESC:Veranstaltungen im Ristorante Da Carlo Bern
REFRESH-INTERVAL;VALUE=DURATION:PT1H
X-Robots-Tag:noindex
X-PUBLISHED-TTL:PT1H
BEGIN:VTIMEZONE
TZID:Europe/Zurich
BEGIN:DAYLIGHT
TZOFFSETFROM:+0100
TZOFFSETTO:+0200
TZNAME:CEST
DTSTART:20240331T010000
END:DAYLIGHT
BEGIN:STANDARD
TZOFFSETFROM:+0200
TZOFFSETTO:+0100
TZNAME:CET
DTSTART:20241027T010000
END:STANDARD
BEGIN:DAYLIGHT
TZOFFSETFROM:+0100
TZOFFSETTO:+0200
TZNAME:CEST
DTSTART:20250330T010000
END:DAYLIGHT
BEGIN:STANDARD
TZOFFSETFROM:+0200
TZOFFSETTO:+0100
TZNAME:CET
DTSTART:20251026T010000
END:STANDARD
BEGIN:DAYLIGHT
TZOFFSETFROM:+0100
TZOFFSETTO:+0200
TZNAME:CEST
DTSTART:20260329T010000
END:DAYLIGHT
BEGIN:STANDARD
TZOFFSETFROM:+0200
TZOFFSETTO:+0100
TZNAME:CET
DTSTART:20261025T010000
END:STANDARD
END:VTIMEZONE
BEGIN:VEVENT
DTSTART;TZID=Europe/Zurich:20250801T190000
DTEND;TZID=Europe/Zurich:20250801T210000
DTSTAMP:20260421T163111
CREATED:20250711T132313Z
LAST-MODIFIED:20250711T132501Z
UID:1251-1754074800-1754082000@da-carlo-bern.ch
SUMMARY:Fernando Strasnoy (Klassisch\, Gitarre)
DESCRIPTION:
URL:https://da-carlo-bern.ch/event/fernando-strasnoy-klassisch-gitarre/
ATTACH;FMTTYPE=image/png:https://da-carlo-bern.ch/wp-content/uploads/2025/07/KULT-portrait_Fernando-Strasnoy_03.png
END:VEVENT
BEGIN:VEVENT
DTSTART;TZID=Europe/Zurich:20250802T190000
DTEND;TZID=Europe/Zurich:20250802T210000
DTSTAMP:20260421T163111
CREATED:20250711T132428Z
LAST-MODIFIED:20250711T132428Z
UID:1255-1754161200-1754168400@da-carlo-bern.ch
SUMMARY:Fernando Strasnoy (Klassisch\, Gitarre)
DESCRIPTION:
URL:https://da-carlo-bern.ch/event/fernando-strasnoy-klassisch-gitarre-2/
ATTACH;FMTTYPE=image/png:https://da-carlo-bern.ch/wp-content/uploads/2025/07/KULT-portrait_Fernando-Strasnoy_03.png
END:VEVENT
BEGIN:VEVENT
DTSTART;TZID=Europe/Zurich:20250808T190000
DTEND;TZID=Europe/Zurich:20250808T210000
DTSTAMP:20260421T163111
CREATED:20250711T132658Z
LAST-MODIFIED:20250711T132658Z
UID:1259-1754679600-1754686800@da-carlo-bern.ch
SUMMARY:Alberto Santamaria (Jazz\, Gitarre)
DESCRIPTION:
URL:https://da-carlo-bern.ch/event/alberto-santamaria-jazz-gitarre/
ATTACH;FMTTYPE=image/jpeg:https://da-carlo-bern.ch/wp-content/uploads/2025/04/alberto-santamaria_pbd3c7.jpg
END:VEVENT
BEGIN:VEVENT
DTSTART;TZID=Europe/Zurich:20250809T190000
DTEND;TZID=Europe/Zurich:20250809T210000
DTSTAMP:20260421T163111
CREATED:20250711T132927Z
LAST-MODIFIED:20250711T132927Z
UID:1265-1754766000-1754773200@da-carlo-bern.ch
SUMMARY:Maria Criscione (Klassisch\, Gitarre)
DESCRIPTION:
URL:https://da-carlo-bern.ch/event/maria-criscione-klassisch-gitarre/
ATTACH;FMTTYPE=image/jpeg:https://da-carlo-bern.ch/wp-content/uploads/2025/07/KULT-portrait_Maria-Criscione.jpg
END:VEVENT
BEGIN:VEVENT
DTSTART;TZID=Europe/Zurich:20250815T190000
DTEND;TZID=Europe/Zurich:20250815T210000
DTSTAMP:20260421T163111
CREATED:20250711T132739Z
LAST-MODIFIED:20250711T132739Z
UID:1261-1755284400-1755291600@da-carlo-bern.ch
SUMMARY:Alberto Santamaria (Jazz\, Gitarre)
DESCRIPTION:
URL:https://da-carlo-bern.ch/event/alberto-santamaria-jazz-gitarre-2/
ATTACH;FMTTYPE=image/jpeg:https://da-carlo-bern.ch/wp-content/uploads/2025/04/alberto-santamaria_pbd3c7.jpg
END:VEVENT
BEGIN:VEVENT
DTSTART;TZID=Europe/Zurich:20250816T190000
DTEND;TZID=Europe/Zurich:20250816T210000
DTSTAMP:20260421T163111
CREATED:20250711T133013Z
LAST-MODIFIED:20250711T133013Z
UID:1268-1755370800-1755378000@da-carlo-bern.ch
SUMMARY:Maria Criscione (Klassisch\, Gitarre)
DESCRIPTION:
URL:https://da-carlo-bern.ch/event/maria-criscione-klassisch-gitarre-2/
ATTACH;FMTTYPE=image/jpeg:https://da-carlo-bern.ch/wp-content/uploads/2025/07/KULT-portrait_Maria-Criscione.jpg
END:VEVENT
BEGIN:VEVENT
DTSTART;TZID=Europe/Zurich:20250822T190000
DTEND;TZID=Europe/Zurich:20250822T210000
DTSTAMP:20260421T163111
CREATED:20250711T132822Z
LAST-MODIFIED:20250711T132822Z
UID:1263-1755889200-1755896400@da-carlo-bern.ch
SUMMARY:Alberto Santamaria (Jazz\, Gitarre)
DESCRIPTION:
URL:https://da-carlo-bern.ch/event/alberto-santamaria-jazz-gitarre-3/
ATTACH;FMTTYPE=image/jpeg:https://da-carlo-bern.ch/wp-content/uploads/2025/04/alberto-santamaria_pbd3c7.jpg
END:VEVENT
BEGIN:VEVENT
DTSTART;TZID=Europe/Zurich:20250823T190000
DTEND;TZID=Europe/Zurich:20250823T210000
DTSTAMP:20260421T163111
CREATED:20250711T133051Z
LAST-MODIFIED:20250711T133051Z
UID:1270-1755975600-1755982800@da-carlo-bern.ch
SUMMARY:Maria Criscione (Klassisch\, Gitarre)
DESCRIPTION:
URL:https://da-carlo-bern.ch/event/maria-criscione-klassisch-gitarre-3/
ATTACH;FMTTYPE=image/jpeg:https://da-carlo-bern.ch/wp-content/uploads/2025/07/KULT-portrait_Maria-Criscione.jpg
END:VEVENT
BEGIN:VEVENT
DTSTART;TZID=Europe/Zurich:20250829T190000
DTEND;TZID=Europe/Zurich:20250829T210000
DTSTAMP:20260421T163111
CREATED:20250711T132544Z
LAST-MODIFIED:20250711T132544Z
UID:1257-1756494000-1756501200@da-carlo-bern.ch
SUMMARY:Fernando Strasnoy (Klassisch\, Gitarre)
DESCRIPTION:
URL:https://da-carlo-bern.ch/event/fernando-strasnoy-klassisch-gitarre-3/
ATTACH;FMTTYPE=image/png:https://da-carlo-bern.ch/wp-content/uploads/2025/07/KULT-portrait_Fernando-Strasnoy_03.png
END:VEVENT
BEGIN:VEVENT
DTSTART;TZID=Europe/Zurich:20250830T190000
DTEND;TZID=Europe/Zurich:20250830T210000
DTSTAMP:20260421T163111
CREATED:20250711T133148Z
LAST-MODIFIED:20250711T133148Z
UID:1272-1756580400-1756587600@da-carlo-bern.ch
SUMMARY:Maria Criscione (Klassisch\, Gitarre)
DESCRIPTION:
URL:https://da-carlo-bern.ch/event/maria-criscione-klassisch-gitarre-4/
ATTACH;FMTTYPE=image/jpeg:https://da-carlo-bern.ch/wp-content/uploads/2025/07/KULT-portrait_Maria-Criscione.jpg
END:VEVENT
END:VCALENDAR