BEGIN:VCALENDAR
VERSION:2.0
PRODID:-//Ristorante Da Carlo Bern - ECPv6.15.20//NONSGML v1.0//EN
CALSCALE:GREGORIAN
METHOD:PUBLISH
X-ORIGINAL-URL:https://da-carlo-bern.ch
X-WR-CALDESC:Veranstaltungen im Ristorante Da Carlo Bern
REFRESH-INTERVAL;VALUE=DURATION:PT1H
X-Robots-Tag:noindex
X-PUBLISHED-TTL:PT1H
BEGIN:VTIMEZONE
TZID:Europe/Zurich
BEGIN:DAYLIGHT
TZOFFSETFROM:+0100
TZOFFSETTO:+0200
TZNAME:CEST
DTSTART:20240331T010000
END:DAYLIGHT
BEGIN:STANDARD
TZOFFSETFROM:+0200
TZOFFSETTO:+0100
TZNAME:CET
DTSTART:20241027T010000
END:STANDARD
BEGIN:DAYLIGHT
TZOFFSETFROM:+0100
TZOFFSETTO:+0200
TZNAME:CEST
DTSTART:20250330T010000
END:DAYLIGHT
BEGIN:STANDARD
TZOFFSETFROM:+0200
TZOFFSETTO:+0100
TZNAME:CET
DTSTART:20251026T010000
END:STANDARD
BEGIN:DAYLIGHT
TZOFFSETFROM:+0100
TZOFFSETTO:+0200
TZNAME:CEST
DTSTART:20260329T010000
END:DAYLIGHT
BEGIN:STANDARD
TZOFFSETFROM:+0200
TZOFFSETTO:+0100
TZNAME:CET
DTSTART:20261025T010000
END:STANDARD
END:VTIMEZONE
BEGIN:VEVENT
DTSTART;TZID=Europe/Zurich:20250905T190000
DTEND;TZID=Europe/Zurich:20250905T210000
DTSTAMP:20260421T150915
CREATED:20250903T074338Z
LAST-MODIFIED:20250903T074338Z
UID:1334-1757098800-1757106000@da-carlo-bern.ch
SUMMARY:Mykyta Verovkin - Akkordeon
DESCRIPTION:
URL:https://da-carlo-bern.ch/event/mykyta-verovkin-akkordeon/
ATTACH;FMTTYPE=image/jpeg:https://da-carlo-bern.ch/wp-content/uploads/2025/09/NikitaVerovkin_kl.jpg
END:VEVENT
BEGIN:VEVENT
DTSTART;TZID=Europe/Zurich:20250906T190000
DTEND;TZID=Europe/Zurich:20250906T210000
DTSTAMP:20260421T150915
CREATED:20250903T074442Z
LAST-MODIFIED:20250903T074442Z
UID:1339-1757185200-1757192400@da-carlo-bern.ch
SUMMARY:Mykyta Verovkin - Akkordeon
DESCRIPTION:
URL:https://da-carlo-bern.ch/event/mykyta-verovkin-akkordeon-2/
ATTACH;FMTTYPE=image/jpeg:https://da-carlo-bern.ch/wp-content/uploads/2025/09/NikitaVerovkin_kl.jpg
END:VEVENT
BEGIN:VEVENT
DTSTART;TZID=Europe/Zurich:20250912T190000
DTEND;TZID=Europe/Zurich:20250912T210000
DTSTAMP:20260421T150915
CREATED:20250903T074540Z
LAST-MODIFIED:20250903T074639Z
UID:1341-1757703600-1757710800@da-carlo-bern.ch
SUMMARY:Natacha Pensuet - Akkordeon
DESCRIPTION:
URL:https://da-carlo-bern.ch/event/natacha-pensuet/
ATTACH;FMTTYPE=image/jpeg:https://da-carlo-bern.ch/wp-content/uploads/2025/09/NatachaPensuet-scaled.jpg
END:VEVENT
BEGIN:VEVENT
DTSTART;TZID=Europe/Zurich:20250913T190000
DTEND;TZID=Europe/Zurich:20250913T210000
DTSTAMP:20260421T150915
CREATED:20250903T074617Z
LAST-MODIFIED:20250903T074617Z
UID:1343-1757790000-1757797200@da-carlo-bern.ch
SUMMARY:Natacha Pensuet - Akkordeon
DESCRIPTION:
URL:https://da-carlo-bern.ch/event/natacha-pensuet-akkordeon/
ATTACH;FMTTYPE=image/jpeg:https://da-carlo-bern.ch/wp-content/uploads/2025/09/NatachaPensuet-scaled.jpg
END:VEVENT
BEGIN:VEVENT
DTSTART;TZID=Europe/Zurich:20250919T190000
DTEND;TZID=Europe/Zurich:20250919T200000
DTSTAMP:20260421T150915
CREATED:20250903T075021Z
LAST-MODIFIED:20250903T075021Z
UID:1351-1758308400-1758312000@da-carlo-bern.ch
SUMMARY:Morgane Berset - Akkordeon
DESCRIPTION:
URL:https://da-carlo-bern.ch/event/morgane-berset-akkordeon/
ATTACH;FMTTYPE=image/jpeg:https://da-carlo-bern.ch/wp-content/uploads/2025/09/MorganeBerset_kl.jpg
END:VEVENT
BEGIN:VEVENT
DTSTART;TZID=Europe/Zurich:20250920T190000
DTEND;TZID=Europe/Zurich:20250920T210000
DTSTAMP:20260421T150915
CREATED:20250903T075117Z
LAST-MODIFIED:20250903T075117Z
UID:1354-1758394800-1758402000@da-carlo-bern.ch
SUMMARY:Morgane Berset - Akkordeon
DESCRIPTION:
URL:https://da-carlo-bern.ch/event/morgane-berset-akkordeon-2/
ATTACH;FMTTYPE=image/jpeg:https://da-carlo-bern.ch/wp-content/uploads/2025/09/MorganeBerset_kl.jpg
END:VEVENT
BEGIN:VEVENT
DTSTART;TZID=Europe/Zurich:20250926T190000
DTEND;TZID=Europe/Zurich:20250926T210000
DTSTAMP:20260421T150915
CREATED:20250903T074714Z
LAST-MODIFIED:20250903T074714Z
UID:1347-1758913200-1758920400@da-carlo-bern.ch
SUMMARY:Natacha Pensuet - Akkordeon
DESCRIPTION:
URL:https://da-carlo-bern.ch/event/natacha-pensuet-akkordeon-2/
ATTACH;FMTTYPE=image/jpeg:https://da-carlo-bern.ch/wp-content/uploads/2025/09/NatachaPensuet-scaled.jpg
END:VEVENT
BEGIN:VEVENT
DTSTART;TZID=Europe/Zurich:20250927T190000
DTEND;TZID=Europe/Zurich:20250927T210000
DTSTAMP:20260421T150915
CREATED:20250903T074740Z
LAST-MODIFIED:20250903T074740Z
UID:1349-1758999600-1759006800@da-carlo-bern.ch
SUMMARY:Natacha Pensuet - Akkordeon
DESCRIPTION:
URL:https://da-carlo-bern.ch/event/natacha-pensuet-akkordeon-3/
ATTACH;FMTTYPE=image/jpeg:https://da-carlo-bern.ch/wp-content/uploads/2025/09/NatachaPensuet-scaled.jpg
END:VEVENT
END:VCALENDAR