BEGIN:VCALENDAR
VERSION:2.0
PRODID:-//Ristorante Da Carlo Bern - ECPv6.15.20//NONSGML v1.0//EN
CALSCALE:GREGORIAN
METHOD:PUBLISH
X-WR-CALNAME:Ristorante Da Carlo Bern
X-ORIGINAL-URL:https://da-carlo-bern.ch
X-WR-CALDESC:Veranstaltungen im Ristorante Da Carlo Bern
REFRESH-INTERVAL;VALUE=DURATION:PT1H
X-Robots-Tag:noindex
X-PUBLISHED-TTL:PT1H
BEGIN:VTIMEZONE
TZID:Europe/Zurich
BEGIN:DAYLIGHT
TZOFFSETFROM:+0100
TZOFFSETTO:+0200
TZNAME:CEST
DTSTART:20240331T010000
END:DAYLIGHT
BEGIN:STANDARD
TZOFFSETFROM:+0200
TZOFFSETTO:+0100
TZNAME:CET
DTSTART:20241027T010000
END:STANDARD
BEGIN:DAYLIGHT
TZOFFSETFROM:+0100
TZOFFSETTO:+0200
TZNAME:CEST
DTSTART:20250330T010000
END:DAYLIGHT
BEGIN:STANDARD
TZOFFSETFROM:+0200
TZOFFSETTO:+0100
TZNAME:CET
DTSTART:20251026T010000
END:STANDARD
BEGIN:DAYLIGHT
TZOFFSETFROM:+0100
TZOFFSETTO:+0200
TZNAME:CEST
DTSTART:20260329T010000
END:DAYLIGHT
BEGIN:STANDARD
TZOFFSETFROM:+0200
TZOFFSETTO:+0100
TZNAME:CET
DTSTART:20261025T010000
END:STANDARD
END:VTIMEZONE
BEGIN:VEVENT
DTSTART;TZID=Europe/Zurich:20251003T190000
DTEND;TZID=Europe/Zurich:20251003T210000
DTSTAMP:20260421T133913
CREATED:20250929T120356Z
LAST-MODIFIED:20250929T120356Z
UID:1384-1759518000-1759525200@da-carlo-bern.ch
SUMMARY:Kristina Nikitović\, Cello
DESCRIPTION:
URL:https://da-carlo-bern.ch/event/kristina-nikitovic-cello/
ATTACH;FMTTYPE=image/jpeg:https://da-carlo-bern.ch/wp-content/uploads/2025/09/KULT_portrait_Irene-Marzadori_02.jpeg
END:VEVENT
BEGIN:VEVENT
DTSTART;TZID=Europe/Zurich:20251004T190000
DTEND;TZID=Europe/Zurich:20251004T210000
DTSTAMP:20260421T133913
CREATED:20250929T120510Z
LAST-MODIFIED:20250929T120510Z
UID:1390-1759604400-1759611600@da-carlo-bern.ch
SUMMARY:Kristina Nikitović\, Cello
DESCRIPTION:
URL:https://da-carlo-bern.ch/event/kristina-nikitovic-cello-2/
ATTACH;FMTTYPE=image/jpeg:https://da-carlo-bern.ch/wp-content/uploads/2025/09/KULT_portrait_Irene-Marzadori_02.jpeg
END:VEVENT
BEGIN:VEVENT
DTSTART;TZID=Europe/Zurich:20251010T190000
DTEND;TZID=Europe/Zurich:20251010T210000
DTSTAMP:20260421T133913
CREATED:20250507T095837Z
LAST-MODIFIED:20250929T120714Z
UID:1086-1760122800-1760130000@da-carlo-bern.ch
SUMMARY:Irene Marzadori\, Cello
DESCRIPTION:
URL:https://da-carlo-bern.ch/event/irene-marzadori/
ATTACH;FMTTYPE=image/jpeg:https://da-carlo-bern.ch/wp-content/uploads/2025/05/Foto.jpg
END:VEVENT
BEGIN:VEVENT
DTSTART;TZID=Europe/Zurich:20251011T190000
DTEND;TZID=Europe/Zurich:20251011T210000
DTSTAMP:20260421T133913
CREATED:20250507T100005Z
LAST-MODIFIED:20250929T120746Z
UID:1089-1760209200-1760216400@da-carlo-bern.ch
SUMMARY:Irene Marzadori\, Cello
DESCRIPTION:
URL:https://da-carlo-bern.ch/event/irene-marzadori-2/
ATTACH;FMTTYPE=image/jpeg:https://da-carlo-bern.ch/wp-content/uploads/2025/05/Foto.jpg
END:VEVENT
BEGIN:VEVENT
DTSTART;TZID=Europe/Zurich:20251017T190000
DTEND;TZID=Europe/Zurich:20251017T210000
DTSTAMP:20260421T133913
CREATED:20250416T131540Z
LAST-MODIFIED:20250929T120827Z
UID:682-1760727600-1760734800@da-carlo-bern.ch
SUMMARY:Charlotte Gulikers\, Cello
DESCRIPTION:
URL:https://da-carlo-bern.ch/event/cellistin-charlotte-gulikers/
ATTACH;FMTTYPE=image/jpeg:https://da-carlo-bern.ch/wp-content/uploads/2025/04/gulikers-charlotte.jpg
END:VEVENT
BEGIN:VEVENT
DTSTART;TZID=Europe/Zurich:20251018T190000
DTEND;TZID=Europe/Zurich:20251018T210000
DTSTAMP:20260421T133913
CREATED:20250416T131559Z
LAST-MODIFIED:20250929T120859Z
UID:684-1760814000-1760821200@da-carlo-bern.ch
SUMMARY:Charlotte Gulikers\, Cello
DESCRIPTION:
URL:https://da-carlo-bern.ch/event/cellistin-charlotte-gulikers-2/
ATTACH;FMTTYPE=image/jpeg:https://da-carlo-bern.ch/wp-content/uploads/2025/04/gulikers-charlotte.jpg
END:VEVENT
BEGIN:VEVENT
DTSTART;TZID=Europe/Zurich:20251024T190000
DTEND;TZID=Europe/Zurich:20251024T210000
DTSTAMP:20260421T133913
CREATED:20250416T131619Z
LAST-MODIFIED:20250929T120938Z
UID:686-1761332400-1761339600@da-carlo-bern.ch
SUMMARY:Charlotte Gulikers\, Cello
DESCRIPTION:
URL:https://da-carlo-bern.ch/event/cellistin-charlotte-gulikers-3/
ATTACH;FMTTYPE=image/jpeg:https://da-carlo-bern.ch/wp-content/uploads/2025/04/gulikers-charlotte.jpg
END:VEVENT
BEGIN:VEVENT
DTSTART;TZID=Europe/Zurich:20251025T190000
DTEND;TZID=Europe/Zurich:20251025T210000
DTSTAMP:20260421T133913
CREATED:20250416T131636Z
LAST-MODIFIED:20250929T121006Z
UID:688-1761418800-1761426000@da-carlo-bern.ch
SUMMARY:Charlotte Gulikers\, Cello
DESCRIPTION:
URL:https://da-carlo-bern.ch/event/cellistin-charlotte-gulikers-4/
ATTACH;FMTTYPE=image/jpeg:https://da-carlo-bern.ch/wp-content/uploads/2025/04/gulikers-charlotte.jpg
END:VEVENT
BEGIN:VEVENT
DTSTART;TZID=Europe/Zurich:20251031T190000
DTEND;TZID=Europe/Zurich:20251031T210000
DTSTAMP:20260421T133913
CREATED:20250929T120534Z
LAST-MODIFIED:20250929T120534Z
UID:1392-1761937200-1761944400@da-carlo-bern.ch
SUMMARY:Kristina Nikitović\, Cello
DESCRIPTION:
URL:https://da-carlo-bern.ch/event/kristina-nikitovic-cello-3/
ATTACH;FMTTYPE=image/jpeg:https://da-carlo-bern.ch/wp-content/uploads/2025/09/KULT_portrait_Irene-Marzadori_02.jpeg
END:VEVENT
END:VCALENDAR