BEGIN:VCALENDAR
VERSION:2.0
PRODID:-//Ristorante Da Carlo Bern - ECPv6.15.20//NONSGML v1.0//EN
CALSCALE:GREGORIAN
METHOD:PUBLISH
X-ORIGINAL-URL:https://da-carlo-bern.ch
X-WR-CALDESC:Veranstaltungen im Ristorante Da Carlo Bern
REFRESH-INTERVAL;VALUE=DURATION:PT1H
X-Robots-Tag:noindex
X-PUBLISHED-TTL:PT1H
BEGIN:VTIMEZONE
TZID:Europe/Zurich
BEGIN:DAYLIGHT
TZOFFSETFROM:+0100
TZOFFSETTO:+0200
TZNAME:CEST
DTSTART:20240331T010000
END:DAYLIGHT
BEGIN:STANDARD
TZOFFSETFROM:+0200
TZOFFSETTO:+0100
TZNAME:CET
DTSTART:20241027T010000
END:STANDARD
BEGIN:DAYLIGHT
TZOFFSETFROM:+0100
TZOFFSETTO:+0200
TZNAME:CEST
DTSTART:20250330T010000
END:DAYLIGHT
BEGIN:STANDARD
TZOFFSETFROM:+0200
TZOFFSETTO:+0100
TZNAME:CET
DTSTART:20251026T010000
END:STANDARD
BEGIN:DAYLIGHT
TZOFFSETFROM:+0100
TZOFFSETTO:+0200
TZNAME:CEST
DTSTART:20260329T010000
END:DAYLIGHT
BEGIN:STANDARD
TZOFFSETFROM:+0200
TZOFFSETTO:+0100
TZNAME:CET
DTSTART:20261025T010000
END:STANDARD
END:VTIMEZONE
BEGIN:VEVENT
DTSTART;TZID=Europe/Zurich:20251101T190000
DTEND;TZID=Europe/Zurich:20251101T210000
DTSTAMP:20260421T121016
CREATED:20250929T121057Z
LAST-MODIFIED:20250929T121057Z
UID:1401-1762023600-1762030800@da-carlo-bern.ch
SUMMARY:Kristina Nikitović\, Cello
DESCRIPTION:
URL:https://da-carlo-bern.ch/event/kristina-nikitovic-cello-4/
ATTACH;FMTTYPE=image/jpeg:https://da-carlo-bern.ch/wp-content/uploads/2025/09/KULT_portrait_Irene-Marzadori_02.jpeg
END:VEVENT
BEGIN:VEVENT
DTSTART;TZID=Europe/Zurich:20251115T190000
DTEND;TZID=Europe/Zurich:20251115T210000
DTSTAMP:20260421T121016
CREATED:20251028T131134Z
LAST-MODIFIED:20251028T131134Z
UID:1422-1763233200-1763240400@da-carlo-bern.ch
SUMMARY:Nicole Pedroni\, Harfe
DESCRIPTION:
URL:https://da-carlo-bern.ch/event/nicole-pedroni-harfe-2/
ATTACH;FMTTYPE=image/jpeg:https://da-carlo-bern.ch/wp-content/uploads/2025/10/Foto-harp-scaled.jpeg
END:VEVENT
BEGIN:VEVENT
DTSTART;TZID=Europe/Zurich:20251121T190000
DTEND;TZID=Europe/Zurich:20251121T210000
DTSTAMP:20260421T121016
CREATED:20251028T131612Z
LAST-MODIFIED:20251028T131905Z
UID:1427-1763751600-1763758800@da-carlo-bern.ch
SUMMARY:Sarah Delacrétaz\, Harfe
DESCRIPTION:
URL:https://da-carlo-bern.ch/event/sarah-delacretaz-harfe/
ATTACH;FMTTYPE=image/jpeg:https://da-carlo-bern.ch/wp-content/uploads/2025/10/Photo_portrait.jpg
END:VEVENT
BEGIN:VEVENT
DTSTART;TZID=Europe/Zurich:20251122T190000
DTEND;TZID=Europe/Zurich:20251122T210000
DTSTAMP:20260421T121016
CREATED:20251028T131226Z
LAST-MODIFIED:20251028T131226Z
UID:1424-1763838000-1763845200@da-carlo-bern.ch
SUMMARY:Emma Longo Valente\, Harfe
DESCRIPTION:
URL:https://da-carlo-bern.ch/event/emma-longo-valente-harfe/
ATTACH;FMTTYPE=image/jpeg:https://da-carlo-bern.ch/wp-content/uploads/2025/10/processed-59CEDFAA-10E1-4DB7-8D8A-19AFDAC52CED.jpeg
END:VEVENT
BEGIN:VEVENT
DTSTART;TZID=Europe/Zurich:20251128T190000
DTEND;TZID=Europe/Zurich:20251128T210000
DTSTAMP:20260421T121016
CREATED:20251028T131936Z
LAST-MODIFIED:20251028T131936Z
UID:1432-1764356400-1764363600@da-carlo-bern.ch
SUMMARY:Sarah Delacrétaz\, Harfe
DESCRIPTION:
URL:https://da-carlo-bern.ch/event/sarah-delacretaz-harfe-2/
ATTACH;FMTTYPE=image/jpeg:https://da-carlo-bern.ch/wp-content/uploads/2025/10/Photo_portrait.jpg
END:VEVENT
BEGIN:VEVENT
DTSTART;TZID=Europe/Zurich:20251129T190000
DTEND;TZID=Europe/Zurich:20251129T210000
DTSTAMP:20260421T121016
CREATED:20251028T132006Z
LAST-MODIFIED:20251028T132006Z
UID:1434-1764442800-1764450000@da-carlo-bern.ch
SUMMARY:Sarah Delacrétaz\, Harfe
DESCRIPTION:
URL:https://da-carlo-bern.ch/event/sarah-delacretaz-harfe-3/
ATTACH;FMTTYPE=image/jpeg:https://da-carlo-bern.ch/wp-content/uploads/2025/10/Photo_portrait.jpg
END:VEVENT
END:VCALENDAR