BEGIN:VCALENDAR
VERSION:2.0
PRODID:-//Ristorante Da Carlo Bern - ECPv6.15.20//NONSGML v1.0//EN
CALSCALE:GREGORIAN
METHOD:PUBLISH
X-WR-CALNAME:Ristorante Da Carlo Bern
X-ORIGINAL-URL:https://da-carlo-bern.ch
X-WR-CALDESC:Veranstaltungen im Ristorante Da Carlo Bern
REFRESH-INTERVAL;VALUE=DURATION:PT1H
X-Robots-Tag:noindex
X-PUBLISHED-TTL:PT1H
BEGIN:VTIMEZONE
TZID:Europe/Zurich
BEGIN:DAYLIGHT
TZOFFSETFROM:+0100
TZOFFSETTO:+0200
TZNAME:CEST
DTSTART:20240331T010000
END:DAYLIGHT
BEGIN:STANDARD
TZOFFSETFROM:+0200
TZOFFSETTO:+0100
TZNAME:CET
DTSTART:20241027T010000
END:STANDARD
BEGIN:DAYLIGHT
TZOFFSETFROM:+0100
TZOFFSETTO:+0200
TZNAME:CEST
DTSTART:20250330T010000
END:DAYLIGHT
BEGIN:STANDARD
TZOFFSETFROM:+0200
TZOFFSETTO:+0100
TZNAME:CET
DTSTART:20251026T010000
END:STANDARD
BEGIN:DAYLIGHT
TZOFFSETFROM:+0100
TZOFFSETTO:+0200
TZNAME:CEST
DTSTART:20260329T010000
END:DAYLIGHT
BEGIN:STANDARD
TZOFFSETFROM:+0200
TZOFFSETTO:+0100
TZNAME:CET
DTSTART:20261025T010000
END:STANDARD
END:VTIMEZONE
BEGIN:VEVENT
DTSTART;TZID=Europe/Zurich:20251205T190000
DTEND;TZID=Europe/Zurich:20251205T210000
DTSTAMP:20260421T104528
CREATED:20251028T132040Z
LAST-MODIFIED:20251028T132040Z
UID:1436-1764961200-1764968400@da-carlo-bern.ch
SUMMARY:Sarah Delacrétaz\, Harfe
DESCRIPTION:
URL:https://da-carlo-bern.ch/event/sarah-delacretaz-harfe-4/
ATTACH;FMTTYPE=image/jpeg:https://da-carlo-bern.ch/wp-content/uploads/2025/10/Photo_portrait.jpg
END:VEVENT
BEGIN:VEVENT
DTSTART;TZID=Europe/Zurich:20251206T190000
DTEND;TZID=Europe/Zurich:20251206T210000
DTSTAMP:20260421T104528
CREATED:20251028T132110Z
LAST-MODIFIED:20251028T132110Z
UID:1438-1765047600-1765054800@da-carlo-bern.ch
SUMMARY:Sarah Delacrétaz\, Harfe
DESCRIPTION:
URL:https://da-carlo-bern.ch/event/sarah-delacretaz-harfe-5/
ATTACH;FMTTYPE=image/jpeg:https://da-carlo-bern.ch/wp-content/uploads/2025/10/Photo_portrait.jpg
END:VEVENT
BEGIN:VEVENT
DTSTART;TZID=Europe/Zurich:20251212T190000
DTEND;TZID=Europe/Zurich:20251212T210000
DTSTAMP:20260421T104528
CREATED:20251028T132145Z
LAST-MODIFIED:20251028T132145Z
UID:1440-1765566000-1765573200@da-carlo-bern.ch
SUMMARY:Sarah Delacrétaz\, Harfe
DESCRIPTION:
URL:https://da-carlo-bern.ch/event/sarah-delacretaz-harfe-6/
ATTACH;FMTTYPE=image/jpeg:https://da-carlo-bern.ch/wp-content/uploads/2025/10/Photo_portrait.jpg
END:VEVENT
BEGIN:VEVENT
DTSTART;TZID=Europe/Zurich:20251213T190000
DTEND;TZID=Europe/Zurich:20251213T210000
DTSTAMP:20260421T104528
CREATED:20251028T132236Z
LAST-MODIFIED:20251028T132236Z
UID:1442-1765652400-1765659600@da-carlo-bern.ch
SUMMARY:Sarah Delacrétaz\, Harfe
DESCRIPTION:
URL:https://da-carlo-bern.ch/event/sarah-delacretaz-harfe-7/
ATTACH;FMTTYPE=image/jpeg:https://da-carlo-bern.ch/wp-content/uploads/2025/10/Photo_portrait.jpg
END:VEVENT
BEGIN:VEVENT
DTSTART;TZID=Europe/Zurich:20251219T190000
DTEND;TZID=Europe/Zurich:20251219T210000
DTSTAMP:20260421T104528
CREATED:20251028T132307Z
LAST-MODIFIED:20251028T132307Z
UID:1444-1766170800-1766178000@da-carlo-bern.ch
SUMMARY:Sarah Delacrétaz\, Harfe
DESCRIPTION:
URL:https://da-carlo-bern.ch/event/sarah-delacretaz-harfe-8/
ATTACH;FMTTYPE=image/jpeg:https://da-carlo-bern.ch/wp-content/uploads/2025/10/Photo_portrait.jpg
END:VEVENT
BEGIN:VEVENT
DTSTART;TZID=Europe/Zurich:20251220T190000
DTEND;TZID=Europe/Zurich:20251220T210000
DTSTAMP:20260421T104528
CREATED:20251028T132404Z
LAST-MODIFIED:20251028T132404Z
UID:1446-1766257200-1766264400@da-carlo-bern.ch
SUMMARY:Nicole Pedroni\, Harfe
DESCRIPTION:
URL:https://da-carlo-bern.ch/event/nicole-pedroni-harfe-3/
ATTACH;FMTTYPE=image/jpeg:https://da-carlo-bern.ch/wp-content/uploads/2025/10/Foto-harp-scaled.jpeg
END:VEVENT
BEGIN:VEVENT
DTSTART;TZID=Europe/Zurich:20251226T190000
DTEND;TZID=Europe/Zurich:20251226T210000
DTSTAMP:20260421T104528
CREATED:20251028T131052Z
LAST-MODIFIED:20251216T095633Z
UID:1420-1766775600-1766782800@da-carlo-bern.ch
SUMMARY:Nicole Pedroni\, Harfe
DESCRIPTION:
URL:https://da-carlo-bern.ch/event/nicole-pedroni-harfe/
ATTACH;FMTTYPE=image/jpeg:https://da-carlo-bern.ch/wp-content/uploads/2025/10/Foto-harp-scaled.jpeg
END:VEVENT
BEGIN:VEVENT
DTSTART;TZID=Europe/Zurich:20251227T190000
DTEND;TZID=Europe/Zurich:20251227T210000
DTSTAMP:20260421T104528
CREATED:20251028T132436Z
LAST-MODIFIED:20251028T132436Z
UID:1448-1766862000-1766869200@da-carlo-bern.ch
SUMMARY:Nicole Pedroni\, Harfe
DESCRIPTION:
URL:https://da-carlo-bern.ch/event/nicole-pedroni-harfe-4/
ATTACH;FMTTYPE=image/jpeg:https://da-carlo-bern.ch/wp-content/uploads/2025/10/Foto-harp-scaled.jpeg
END:VEVENT
BEGIN:VEVENT
DTSTART;TZID=Europe/Zurich:20251231T180000
DTEND;TZID=Europe/Zurich:20251231T233000
DTSTAMP:20260421T104528
CREATED:20251013T091825Z
LAST-MODIFIED:20251028T132524Z
UID:1408-1767204000-1767223800@da-carlo-bern.ch
SUMMARY:Neujahrsdinner mit Live Musik (Sarah Delacrétaz\, Harfe)
DESCRIPTION: 
URL:https://da-carlo-bern.ch/event/neujahrsdinner-mit-live-musik-harfe/
ATTACH;FMTTYPE=image/jpeg:https://da-carlo-bern.ch/wp-content/uploads/2025/10/1.jpg
END:VEVENT
END:VCALENDAR